BEGIN:VCALENDAR
VERSION:2.0
PRODID:-//ChamberMaster//Event Calendar 2.0//EN
METHOD:PUBLISH
X-PUBLISHED-TTL:P3D
REFRESH-INTERVAL:P3D
CALSCALE:GREGORIAN
BEGIN:VEVENT
DTSTART:20161028T213000Z
DTEND:20161029T020000Z
X-MICROSOFT-CDO-ALLDAYEVENT:FALSE
SUMMARY:Zombie Night Golf Players bring your flashlights!!!!
DESCRIPTION:A Zombie Filled Golf Halloween for Everyone Who Dares to Play!\n\nFriday\, October 28th\, 2016\n\n5:30 p.m. in the Bar Sunset Shotgun\n\n $30. per person/$110. per team (4) includes:\n\n 2 Glow Balls each\, 6 Holes\, Spooky Appetizers\, Spirit Drink and Cash Bar\, Music\, Dancing & Prizes for Best Costumes: Team\, Couples\, Individual\n\n\n\nWhite Elephant donations accepted through 10/21\n\nPromote your business with these sponsorships:\n\nSpooky Treats\, DJ\, Beverage Carts\, Lighted\n\nTee Signs & Costume Contest!
X-ALT-DESC;FMTTYPE=text/html:<span style="font-size: 12px\;"><span style="language: en-US\;"><span style="font-family: ravie\;">A Zombie Filled </span></span><span style="language: en-US\;"><span style="font-family: ravie\;">Golf</span></span><span style="language: en-US\;"><span style="font-family: ravie\;"> Halloween for Everyone Who Dares to Play!</span></span><br />\n<span style="font-weight: bold\; language: en-US\;">Friday\, October 28th\, 2016</span><br />\n<span style="font-weight: bold\; language: en-US\;">5:30 p.m. </span><span style="font-weight: bold\; language: en-US\;">in the Bar&mdash\;</span><span style="font-weight: bold\; language: en-US\;">Sunset Shotgun</span><br />\n&nbsp\;<span style="language: en-US\;">$30. per person/$110. per team (4) includes:</span><br />\n<span style="language: en-US\;">&nbsp\;2 Glow Balls each\, 6 Holes\, Spooky Appetizers\, Spirit Drink and Cash Bar\, Music\, Dancing &amp\; Prizes for Best Costumes: Team\, Couples\, Individual<br />\n<br />\nWhite Elephant donations accepted through 10/21</span></span><br />\n<span style="font-size: 12px\;"><span style="font-weight: bold\; language: en-US\;">Promote your business with these sponsorships:</span><br />\n<span style="font-weight: bold\; language: en-US\;">Spooky Treats\, DJ\, Beverage Carts\, Lighted</span><br />\n<span style="font-weight: bold\; language: en-US\;">Tee Signs &amp\; Costume Contest! </span></span><br />\n<br />\n<span style="font-size: 12px\;">&nbsp\;</span><br />\n&nbsp\;
LOCATION:Remington Golf Club 2995 Remington Blvd. Kissimmee\, FL 34744
UID:e.2686.2396
SEQUENCE:3
DTSTAMP:20260420T192144Z
URL:https://business.stcloudflchamber.com/events/details/zombie-night-golf-players-bring-your-flashlights-2396
END:VEVENT

END:VCALENDAR
