BEGIN:VCALENDAR
VERSION:2.0
PRODID:-//ChamberMaster//Event Calendar 2.0//EN
METHOD:PUBLISH
X-PUBLISHED-TTL:P3D
REFRESH-INTERVAL:P3D
CALSCALE:GREGORIAN
BEGIN:VEVENT
DTSTART:20170421T110000Z
DTEND:20170421T160000Z
X-MICROSOFT-CDO-ALLDAYEVENT:FALSE
SUMMARY:X 2017 Annual Golf Tournament
DESCRIPTION:37th Annual Golf Tournament at Royal St. Cloud Golf Links.  This quality Golf Tournament brings together business leaders and friends for a great day of fun and golf.  Not a golfer?  You too can be a part of this exciting event by taking advantage of one of our sponsorship opportunities.
X-ALT-DESC;FMTTYPE=text/html:37th Annual Golf Tournament at Royal St. Cloud Golf Links. &nbsp\;This quality Golf Tournament brings together business leaders and friends for a great day of fun and golf. &nbsp\;Not a golfer? &nbsp\;You too can be a part of this exciting event by taking advantage of one of our sponsorship opportunities.
LOCATION:Royal St. Cloud Golf Links 5310 Michigan Avenue St. Cloud\, FL 34772
UID:e.2686.2733
SEQUENCE:3
DTSTAMP:20260420T100353Z
URL:https://business.stcloudflchamber.com/events/details/x-2017-annual-golf-tournament-2733
END:VEVENT

END:VCALENDAR
