BEGIN:VCALENDAR
VERSION:2.0
PRODID:-//ChamberMaster//Event Calendar 2.0//EN
METHOD:PUBLISH
X-PUBLISHED-TTL:P3D
REFRESH-INTERVAL:P3D
CALSCALE:GREGORIAN
BEGIN:VEVENT
DTSTART:20161203T150000Z
DTEND:20161203T190000Z
X-MICROSOFT-CDO-ALLDAYEVENT:FALSE
SUMMARY:X 2016 Christmas Parade
DESCRIPTION:REGISTRATION CLOSED\n\n\n\n\n\nCandy Canes & Christmas Carols
X-ALT-DESC;FMTTYPE=text/html:<br />\n<span style="color: rgb(255\, 0\, 0)\;"><span style="font-size: 22px\;"><strong>REGISTRATION CLOSED</strong></span></span><br />\n<br />\n<br />\nCandy Canes &amp\; Christmas Carols<br />\n<br />\n<br />\n&nbsp\;
LOCATION:Downtown St. Cloud\, FL
UID:e.2686.2379
SEQUENCE:3
DTSTAMP:20260420T155444Z
URL:https://business.stcloudflchamber.com/events/details/x-2016-christmas-parade-2379
END:VEVENT

END:VCALENDAR
