BEGIN:VCALENDAR
VERSION:2.0
PRODID:-//ChamberMaster//Event Calendar 2.0//EN
METHOD:PUBLISH
X-PUBLISHED-TTL:P3D
REFRESH-INTERVAL:P3D
CALSCALE:GREGORIAN
BEGIN:VEVENT
DTSTART:20161027T160000Z
DTEND:20161027T170000Z
X-MICROSOFT-CDO-ALLDAYEVENT:FALSE
SUMMARY:Seminar Series #3-Small Business HR\, Interviewing Skills 101
DESCRIPTION:Small Business HR\, Interviewing Skills 101\nA guide for the interview process including the job description\, application/resume review\, conducting the interview\, and finalizing the hire.\n\n\nGuest Speakers\n\nBoyd Hoglund- Beneficial Communication Services & Training\n\nFran Sherry- AdvoCare\n\nLimited seats available.\n\nAdvanced registration required with lunch included.
X-ALT-DESC;FMTTYPE=text/html:Small Business HR\, Interviewing Skills 101\n<p style="margin: 0in 0in 0pt\;"><strong><font color="#000000" face="Times New Roman" size="3">A&nbsp\;guide for the interview process including the job description\, application/resume review\, conducting the interview\, and finalizing the hire.</font></strong></p>\n<br />\nGuest Speakers<br />\nBoyd Hoglund- Beneficial Communication Services &amp\; Training<br />\nFran Sherry- AdvoCare<br />\nLimited seats available.<br />\nAdvanced registration required with&nbsp\;lunch included.<br />\n&nbsp\;
LOCATION:1200 New York Ave Chamber Boardroom
UID:e.2686.56
SEQUENCE:3
DTSTAMP:20260420T192632Z
URL:https://business.stcloudflchamber.com/events/details/seminar-series-3-small-business-hr-interviewing-skills-101-10-27-2016-56
END:VEVENT

END:VCALENDAR
