BEGIN:VCALENDAR
VERSION:2.0
PRODID:-//ChamberMaster//Event Calendar 2.0//EN
METHOD:PUBLISH
X-PUBLISHED-TTL:P3D
REFRESH-INTERVAL:P3D
CALSCALE:GREGORIAN
BEGIN:VEVENT
DTSTART:20160929T160000Z
DTEND:20160929T170000Z
X-MICROSOFT-CDO-ALLDAYEVENT:FALSE
SUMMARY:Seminar Series # 2- Healthcare Education
DESCRIPTION:Healthcare Education for Small Business\n\nGuest Speakers\n\nAffordable Insurance Agency- Bruce Venema\n\nBarakat Insurance Agency- Gaby Barakat\n\nLimited seats available.\n\nAdvanced registration required with lunch included.
X-ALT-DESC;FMTTYPE=text/html:Healthcare Education for Small Business<br />\nGuest Speakers<br />\nAffordable Insurance Agency- Bruce Venema<br />\nBarakat Insurance Agency- Gaby Barakat<br />\nLimited seats available.<br />\nAdvanced registration required with&nbsp\;lunch included.
LOCATION:St. Cloud Chamber Board Room
UID:e.2686.55
SEQUENCE:3
DTSTAMP:20260420T220647Z
URL:https://business.stcloudflchamber.com/events/details/seminar-series-2-healthcare-education-09-29-2016-55
END:VEVENT

END:VCALENDAR
