BEGIN:VCALENDAR
VERSION:2.0
PRODID:-//ChamberMaster//Event Calendar 2.0//EN
METHOD:PUBLISH
X-PUBLISHED-TTL:P3D
REFRESH-INTERVAL:P3D
CALSCALE:GREGORIAN
BEGIN:VEVENT
DTSTART:20160825T160000Z
DTEND:20160825T170000Z
X-MICROSOFT-CDO-ALLDAYEVENT:FALSE
SUMMARY:Seminar Series #1-Budgeting Principles
DESCRIPTION:Budgeting principles for your personal and business needs.\n\nIntroduction to Financial Peace by Dave Ramsey with Q & A following.\n\nLimited seats available.\n\nAdvanced registration required with lunch included.
X-ALT-DESC;FMTTYPE=text/html:Budgeting principles for your personal and&nbsp\;business needs.<br />\nIntroduction to Financial Peace by Dave Ramsey with Q &amp\; A following.<br />\nLimited seats available.<br />\nAdvanced registration required with&nbsp\;lunch included.
LOCATION:The Chamber Board Room
UID:e.2686.54
SEQUENCE:3
DTSTAMP:20260420T220024Z
URL:https://business.stcloudflchamber.com/events/details/seminar-series-1-budgeting-principles-08-25-2016-54
END:VEVENT

END:VCALENDAR
