BEGIN:VCALENDAR
VERSION:2.0
PRODID:-//ChamberMaster//Event Calendar 2.0//EN
METHOD:PUBLISH
X-PUBLISHED-TTL:P3D
REFRESH-INTERVAL:P3D
CALSCALE:GREGORIAN
BEGIN:VEVENT
DTSTART:20170302T140000Z
DTEND:20170302T193000Z
X-MICROSOFT-CDO-ALLDAYEVENT:FALSE
SUMMARY:SBDC Appointments
DESCRIPTION:
X-ALT-DESC;FMTTYPE=text/html:
LOCATION:
UID:e.2686.2203
SEQUENCE:3
DTSTAMP:20260420T112905Z
URL:https://business.stcloudflchamber.com/events/details/sbdc-appointments-03-02-2017-2203
END:VEVENT

END:VCALENDAR
