BEGIN:VCALENDAR
VERSION:2.0
PRODID:-//ChamberMaster//Event Calendar 2.0//EN
METHOD:PUBLISH
X-PUBLISHED-TTL:P3D
REFRESH-INTERVAL:P3D
CALSCALE:GREGORIAN
BEGIN:VEVENT
DTSTART:20161215T170000Z
DTEND:20161215T180000Z
X-MICROSOFT-CDO-ALLDAYEVENT:FALSE
SUMMARY:Ribbon Cutting/ St. Cloud Medical Group East
DESCRIPTION:
X-ALT-DESC;FMTTYPE=text/html:
LOCATION:Family Medicine East 1700 E. Irlo Bronson Mem. Hwy. St. Cloud\, Fl 34771
UID:e.2686.2440
SEQUENCE:3
DTSTAMP:20260420T155907Z
URL:https://business.stcloudflchamber.com/events/details/ribbon-cutting-st-cloud-medical-group-east-2440
END:VEVENT

END:VCALENDAR
