BEGIN:VCALENDAR
VERSION:2.0
PRODID:-//ChamberMaster//Event Calendar 2.0//EN
METHOD:PUBLISH
X-PUBLISHED-TTL:P3D
REFRESH-INTERVAL:P3D
CALSCALE:GREGORIAN
BEGIN:VEVENT
DTSTART;VALUE=DATE:20180710
DTEND;VALUE=DATE:20180711
TRANSP:TRANSPARENT
X-MICROSOFT-CDO-ALLDAYEVENT:TRUE
SUMMARY:Ribbon Cutting - St. Cloud Family Medicine
DESCRIPTION:Ribbon Cutting\n\n\n\nFood & Drink Provided
X-ALT-DESC;FMTTYPE=text/html:Ribbon Cutting<br />\n<br />\nFood &amp\; Drink Provided
LOCATION:3107 13th Street St. Cloud\, Fl 34769
UID:e.2686.10489
SEQUENCE:3
DTSTAMP:20260420T142619Z
URL:https://business.stcloudflchamber.com/events/details/ribbon-cutting-st-cloud-family-medicine-10489
END:VEVENT

END:VCALENDAR
