BEGIN:VCALENDAR
VERSION:2.0
PRODID:-//ChamberMaster//Event Calendar 2.0//EN
METHOD:PUBLISH
X-PUBLISHED-TTL:P3D
REFRESH-INTERVAL:P3D
CALSCALE:GREGORIAN
BEGIN:VEVENT
DTSTART:20170301T190000Z
DTEND:20170301T193000Z
X-MICROSOFT-CDO-ALLDAYEVENT:FALSE
SUMMARY:Ribbon Cutting - Jimmy Bear's BBQ
DESCRIPTION:Ribbon Cutting
X-ALT-DESC;FMTTYPE=text/html:Ribbon Cutting
LOCATION:Jimmy Bear's BBQ 818 Pennsylvania Ave. St. Cloud\, FL 34769
UID:e.2686.2882
SEQUENCE:3
DTSTAMP:20260420T113451Z
URL:https://business.stcloudflchamber.com/events/details/ribbon-cutting-jimmy-bear-s-bbq-2882
END:VEVENT

END:VCALENDAR
