BEGIN:VCALENDAR
VERSION:2.0
PRODID:-//ChamberMaster//Event Calendar 2.0//EN
METHOD:PUBLISH
X-PUBLISHED-TTL:P3D
REFRESH-INTERVAL:P3D
CALSCALE:GREGORIAN
BEGIN:VEVENT
DTSTART:20161118T203000Z
DTEND:20161118T210000Z
X-MICROSOFT-CDO-ALLDAYEVENT:FALSE
SUMMARY:Ribbon Cutting FROZ-N
DESCRIPTION:
X-ALT-DESC;FMTTYPE=text/html:
LOCATION:1481 E. Irlo Bronson Mem Hwy.
UID:e.2686.2437
SEQUENCE:3
DTSTAMP:20260420T173945Z
URL:https://business.stcloudflchamber.com/events/details/ribbon-cutting-froz-n-2437
END:VEVENT

END:VCALENDAR
