BEGIN:VCALENDAR
VERSION:2.0
PRODID:-//ChamberMaster//Event Calendar 2.0//EN
METHOD:PUBLISH
X-PUBLISHED-TTL:P3D
REFRESH-INTERVAL:P3D
CALSCALE:GREGORIAN
BEGIN:VEVENT
DTSTART:20170123T143000Z
DTEND:20170123T150000Z
X-MICROSOFT-CDO-ALLDAYEVENT:FALSE
SUMMARY:Ribbon Cutting - CenterState Bank
DESCRIPTION:Grand Opening & Ribbon Cutting
X-ALT-DESC;FMTTYPE=text/html:Grand Opening &amp\; Ribbon Cutting
LOCATION:CenterState Bank 2819 13th Street St. Cloud\, FL 34769 Come join us as we celebrate our new fabulous building.
UID:e.2686.2584
SEQUENCE:3
DTSTAMP:20260420T142456Z
URL:https://business.stcloudflchamber.com/events/details/ribbon-cutting-centerstate-bank-2584
END:VEVENT

END:VCALENDAR
