BEGIN:VCALENDAR
VERSION:2.0
PRODID:-//ChamberMaster//Event Calendar 2.0//EN
METHOD:PUBLISH
X-PUBLISHED-TTL:P3D
REFRESH-INTERVAL:P3D
CALSCALE:GREGORIAN
BEGIN:VEVENT
DTSTART:20170113T200000Z
DTEND:20170113T230000Z
X-MICROSOFT-CDO-ALLDAYEVENT:FALSE
SUMMARY:Remington Golf Club Ribbon Cutting
DESCRIPTION:Come Join Us In Our Re-Opening Under New Management 3pm to 6pm at 2995 Remington Blvd.\, Kissimmee\, FL 34744
X-ALT-DESC;FMTTYPE=text/html:Come Join Us In Our Re-Opening Under New Management 3pm to 6pm at 2995 Remington Blvd.\, Kissimmee\, FL 34744<br />\n&nbsp\;
LOCATION:Remington Golf Club 2955 Remington Blvd. Kissimmee\, FL 34744
UID:e.2686.2583
SEQUENCE:3
DTSTAMP:20260420T142554Z
URL:https://business.stcloudflchamber.com/events/details/remington-golf-club-ribbon-cutting-2583
END:VEVENT

END:VCALENDAR
