BEGIN:VCALENDAR
VERSION:2.0
PRODID:-//ChamberMaster//Event Calendar 2.0//EN
METHOD:PUBLISH
X-PUBLISHED-TTL:P3D
REFRESH-INTERVAL:P3D
CALSCALE:GREGORIAN
BEGIN:VEVENT
DTSTART:20170209T163000Z
DTEND:20170209T180000Z
X-MICROSOFT-CDO-ALLDAYEVENT:FALSE
SUMMARY:Quarterly Luncheon February 9\, 2017 - SOLD OUT
DESCRIPTION:Guest Speakers:\n\nJoe Helfenberger\, St. Cloud City Manager\n\nMunicipal Update\n\n\n\nAlbert Leka\n\nPresident\, ADMC International\, LLC\nSt. Cloud Hotel\, Hunter Arms Hotel \n\nEconomic Update: Phases of Downtown Development
X-ALT-DESC;FMTTYPE=text/html:<p style="margin: 0in 0in 0pt\;"><span style="mso-fareast-font-family: &quot\;Times New Roman&quot\;\;"><font color="#000000" face="Times New Roman" size="3">Guest Speakers:</font></span></p>\n\n<p style="margin: 0in 0in 0pt\;"><span style="font-size:14px\;"><span style="color: rgb(51\, 51\, 51)\; font-family: Calibri\, sans-serif\;">Joe Helfenberger\, St. Cloud City Manager<br style="border-radius: 0px\; line-height: inherit\; overflow: visible\; float: none\; -ms-word-break: inherit\; -ms-word-wrap: inherit\; -ms-text-overflow: clip\; max-height: none\; max-width: none\; box-sizing: content-box\; empty-cells: show\; font-stretch: inherit\; opacity: 1\; font-variant-numeric: inherit\;" />\nMunicipal Update</span><br />\n<br />\n<span style="color: rgb(51\, 51\, 51)\; font-family: Calibri\, sans-serif\;">Albert Leka<br />\nPresident\, ADMC International\, LLC</span></span></p>\n<span style="font-size:14px\;"><font color="#000000"><span style="font-family: &quot\;Times New Roman&quot\;\, serif\;">St. Cloud Hotel\, Hunter Arms Hotel&nbsp\;</span></font><br style="border-radius: 0px\; line-height: inherit\; overflow: visible\; float: none\; -ms-word-break: inherit\; -ms-word-wrap: inherit\; -ms-text-overflow: clip\; max-height: none\; max-width: none\; box-sizing: content-box\; empty-cells: show\; font-stretch: inherit\; opacity: 1\; font-variant-numeric: inherit\;" />\n<span style="color: rgb(51\, 51\, 51)\; font-family: Calibri\, sans-serif\;">Economic Update: Phases of Downtown Development</span></span><br />\n<br />\n&nbsp\;
LOCATION:Osceola Council On Aging 700 Generation Point Kissimmee\, FL 34741
UID:e.2686.2441
SEQUENCE:3
DTSTAMP:20260420T130155Z
URL:https://business.stcloudflchamber.com/events/details/quarterly-luncheon-february-9-2017-sold-out-2441
END:VEVENT

END:VCALENDAR
