BEGIN:VCALENDAR
VERSION:2.0
PRODID:-//ChamberMaster//Event Calendar 2.0//EN
METHOD:PUBLISH
X-PUBLISHED-TTL:P3D
REFRESH-INTERVAL:P3D
CALSCALE:GREGORIAN
BEGIN:VEVENT
DTSTART:20170117T223000Z
DTEND:20170117T233000Z
X-MICROSOFT-CDO-ALLDAYEVENT:FALSE
SUMMARY:Networking Meeting
DESCRIPTION:Members can visit twice and non members once.
X-ALT-DESC;FMTTYPE=text/html:Members can visit twice and non members once.
LOCATION:Gator's Dockside
UID:e.2686.641
SEQUENCE:3
DTSTAMP:20260420T142052Z
URL:https://business.stcloudflchamber.com/events/details/networking-meeting-01-17-2017-641
END:VEVENT

END:VCALENDAR
