BEGIN:VCALENDAR
VERSION:2.0
PRODID:-//ChamberMaster//Event Calendar 2.0//EN
METHOD:PUBLISH
X-PUBLISHED-TTL:P3D
REFRESH-INTERVAL:P3D
CALSCALE:GREGORIAN
BEGIN:VEVENT
DTSTART:20170307T223000Z
DTEND:20170307T233000Z
X-MICROSOFT-CDO-ALLDAYEVENT:FALSE
SUMMARY:LEADS Group - The LEADS Group
DESCRIPTION:Members can visit twice and non members once.
X-ALT-DESC;FMTTYPE=text/html:Members can visit&nbsp\;twice and non members once.
LOCATION:Call the Chamber for location.
UID:e.2686.517
SEQUENCE:3
DTSTAMP:20260420T113102Z
URL:https://business.stcloudflchamber.com/events/details/leads-group-the-leads-group-03-07-2017-517
END:VEVENT

END:VCALENDAR
