BEGIN:VCALENDAR
VERSION:2.0
PRODID:-//ChamberMaster//Event Calendar 2.0//EN
METHOD:PUBLISH
X-PUBLISHED-TTL:P3D
REFRESH-INTERVAL:P3D
CALSCALE:GREGORIAN
BEGIN:VEVENT
DTSTART:20170307T123000Z
DTEND:20170307T133000Z
X-MICROSOFT-CDO-ALLDAYEVENT:FALSE
SUMMARY:Education Committee
DESCRIPTION:
X-ALT-DESC;FMTTYPE=text/html:
LOCATION:St. Cloud Chamber of Commerce 1200 New York Avenue St. Cloud\, FL 34769
UID:e.2686.1802
SEQUENCE:3
DTSTAMP:20260420T024300Z
URL:https://business.stcloudflchamber.com/events/details/education-committee-03-07-2017-1802
END:VEVENT

END:VCALENDAR
