BEGIN:VCALENDAR
VERSION:2.0
PRODID:-//ChamberMaster//Event Calendar 2.0//EN
METHOD:PUBLISH
X-PUBLISHED-TTL:P3D
REFRESH-INTERVAL:P3D
CALSCALE:GREGORIAN
BEGIN:VEVENT
DTSTART:20160921T213000Z
DTEND:20160921T230000Z
X-MICROSOFT-CDO-ALLDAYEVENT:FALSE
SUMMARY:Business After Hours The Transition House
DESCRIPTION:
X-ALT-DESC;FMTTYPE=text/html:
LOCATION:The Transition House 3113 Innovation Way St. Cloud\, Fl 34769
UID:e.2686.52
SEQUENCE:3
DTSTAMP:20260420T205223Z
URL:https://business.stcloudflchamber.com/events/details/business-after-hours-the-transition-house-09-21-2016-52
END:VEVENT

END:VCALENDAR
