BEGIN:VCALENDAR
VERSION:2.0
PRODID:-//ChamberMaster//Event Calendar 2.0//EN
METHOD:PUBLISH
X-PUBLISHED-TTL:P3D
REFRESH-INTERVAL:P3D
CALSCALE:GREGORIAN
BEGIN:VEVENT
DTSTART:20160817T213000Z
DTEND:20160817T233000Z
X-MICROSOFT-CDO-ALLDAYEVENT:FALSE
SUMMARY:Business After Hours St. Cloud Regional Medical Center 2016
DESCRIPTION:
X-ALT-DESC;FMTTYPE=text/html:
LOCATION:St. Cloud Regional Medical Center
UID:e.2686.19
SEQUENCE:3
DTSTAMP:20260420T220357Z
URL:https://business.stcloudflchamber.com/events/details/business-after-hours-st-cloud-regional-medical-center-2016-19
END:VEVENT

END:VCALENDAR
