BEGIN:VCALENDAR
VERSION:2.0
PRODID:-//ChamberMaster//Event Calendar 2.0//EN
METHOD:PUBLISH
X-PUBLISHED-TTL:P3D
REFRESH-INTERVAL:P3D
CALSCALE:GREGORIAN
BEGIN:VEVENT
DTSTART:20170118T223000Z
DTEND:20170119T003000Z
X-MICROSOFT-CDO-ALLDAYEVENT:FALSE
SUMMARY:Business After Hours Roberts Business Services/ Academy for Kids
DESCRIPTION:
X-ALT-DESC;FMTTYPE=text/html:
LOCATION:Academy For Kids 2375 Canoe Creek Rd. St. Cloud\, FL 34769
UID:e.2686.2374
SEQUENCE:3
DTSTAMP:20260420T142702Z
URL:https://business.stcloudflchamber.com/events/details/business-after-hours-roberts-business-services-academy-for-kids-01-18-2017-2374
END:VEVENT

END:VCALENDAR
