BEGIN:VCALENDAR
VERSION:2.0
PRODID:-//ChamberMaster//Event Calendar 2.0//EN
METHOD:PUBLISH
X-PUBLISHED-TTL:P3D
REFRESH-INTERVAL:P3D
CALSCALE:GREGORIAN
BEGIN:VEVENT
DTSTART:20161019T213000Z
DTEND:20161019T233000Z
X-MICROSOFT-CDO-ALLDAYEVENT:FALSE
SUMMARY:Business After Hours- Oktoberfest
DESCRIPTION:Join us at OSCAR for a Wunderbar After-Hours Event\n\nLot's of great give-aways\, including 50/50\, 4 $50. gift cards and new to come a member spotlight with video promo! So come and check this one out!!
X-ALT-DESC;FMTTYPE=text/html:Join us at OSCAR for a Wunderbar After-Hours Event<br />\nLot&#39\;s of great give-aways\, including 50/50\, 4 $50. gift cards and new to come a member spotlight with video promo! So come and check this one out!!
LOCATION:Osceola County Association of Realtors 1105 Shady Ln. Kissimmee\, FL 34744 407-846-0117
UID:e.2686.2401
SEQUENCE:3
DTSTAMP:20260420T192243Z
URL:https://business.stcloudflchamber.com/events/details/business-after-hours-oktoberfest-2401
END:VEVENT

END:VCALENDAR
