BEGIN:VCALENDAR
VERSION:2.0
PRODID:-//ChamberMaster//Event Calendar 2.0//EN
METHOD:PUBLISH
X-PUBLISHED-TTL:P3D
REFRESH-INTERVAL:P3D
CALSCALE:GREGORIAN
BEGIN:VEVENT
DTSTART:20170315T213000Z
DTEND:20170315T233000Z
X-MICROSOFT-CDO-ALLDAYEVENT:FALSE
SUMMARY:Business After Hours - Dave Askew Jewelers
DESCRIPTION:Business After Hours
X-ALT-DESC;FMTTYPE=text/html:Business After Hours
LOCATION:Dave Askew Jewelers 1121 New York Ave. St. Cloud\, FL 34769
UID:e.2686.3148
SEQUENCE:3
DTSTAMP:20260420T113606Z
URL:https://business.stcloudflchamber.com/events/details/business-after-hours-dave-askew-jewelers-3148
END:VEVENT

END:VCALENDAR
