BEGIN:VCALENDAR
VERSION:2.0
PRODID:-//ChamberMaster//Event Calendar 2.0//EN
METHOD:PUBLISH
X-PUBLISHED-TTL:P3D
REFRESH-INTERVAL:P3D
CALSCALE:GREGORIAN
BEGIN:VEVENT
DTSTART:20160917T220000Z
DTEND:20160918T020000Z
X-MICROSOFT-CDO-ALLDAYEVENT:FALSE
SUMMARY:Annual Awards Banquet
DESCRIPTION:Start Spreading The News\n\nYou are cordially invited to attend the\n\nSt. Cloud Chamber of Commerce\n\nAnnual Awards Banquet
X-ALT-DESC;FMTTYPE=text/html:<span style="font-family: comic sans ms\;"><span style="font-size: 20px\;"><strong>Start Spreading The News</strong></span></span><br />\nYou are cordially invited to attend the<br />\nSt. Cloud Chamber of Commerce<br />\nAnnual Awards Banquet
LOCATION:The Royal St. Cloud Crest Room 5330 Michigan Ave St. Cloud\, FL 34772
UID:e.2686.21
SEQUENCE:3
DTSTAMP:20260420T205014Z
URL:https://business.stcloudflchamber.com/events/details/annual-awards-banquet-09-17-2016-21
END:VEVENT

END:VCALENDAR
