BEGIN:VCALENDAR
VERSION:2.0
PRODID:-//ChamberMaster//Event Calendar 2.0//EN
METHOD:PUBLISH
X-PUBLISHED-TTL:P3D
REFRESH-INTERVAL:P3D
CALSCALE:GREGORIAN
BEGIN:VEVENT
DTSTART:20190704T190000Z
DTEND:20190705T020000Z
X-MICROSOFT-CDO-ALLDAYEVENT:FALSE
SUMMARY:2019 Annual July 4th Celebration
DESCRIPTION:The St. Cloud Chamber of Commerce will once again host our nation's birthday party at the St. Cloud Lakefront beginning at 3pm on July 4th and closing with the most beautiful fireworks display in all of Central Florida\, provided by the City of St. Cloud.
X-ALT-DESC;FMTTYPE=text/html:The St. Cloud Chamber of Commerce will once again host our nation&#39\;s birthday party at the St. Cloud Lakefront beginning at 3pm on July 4th and closing with the most beautiful fireworks display in all of Central Florida\, provided by the City of St. Cloud.
LOCATION:St. Cloud Lakefront
UID:e.2686.11731
SEQUENCE:3
DTSTAMP:20260419T121135Z
URL:https://business.stcloudflchamber.com/events/details/2019-annual-july-4th-celebration-11731
END:VEVENT

END:VCALENDAR
